BEGIN:VCALENDAR
VERSION:2.0
PRODID:-//Drinnen &amp; Draußen - ECPv6.15.20//NONSGML v1.0//EN
CALSCALE:GREGORIAN
METHOD:PUBLISH
X-ORIGINAL-URL:https://drinnen-draussen-dresden.de
X-WR-CALDESC:Veranstaltungen für Drinnen &amp; Draußen
REFRESH-INTERVAL;VALUE=DURATION:PT1H
X-Robots-Tag:noindex
X-PUBLISHED-TTL:PT1H
BEGIN:VTIMEZONE
TZID:Europe/Berlin
BEGIN:DAYLIGHT
TZOFFSETFROM:+0100
TZOFFSETTO:+0200
TZNAME:CEST
DTSTART:20220327T010000
END:DAYLIGHT
BEGIN:STANDARD
TZOFFSETFROM:+0200
TZOFFSETTO:+0100
TZNAME:CET
DTSTART:20221030T010000
END:STANDARD
BEGIN:DAYLIGHT
TZOFFSETFROM:+0100
TZOFFSETTO:+0200
TZNAME:CEST
DTSTART:20230326T010000
END:DAYLIGHT
BEGIN:STANDARD
TZOFFSETFROM:+0200
TZOFFSETTO:+0100
TZNAME:CET
DTSTART:20231029T010000
END:STANDARD
BEGIN:DAYLIGHT
TZOFFSETFROM:+0100
TZOFFSETTO:+0200
TZNAME:CEST
DTSTART:20240331T010000
END:DAYLIGHT
BEGIN:STANDARD
TZOFFSETFROM:+0200
TZOFFSETTO:+0100
TZNAME:CET
DTSTART:20241027T010000
END:STANDARD
END:VTIMEZONE
BEGIN:VEVENT
DTSTART;VALUE=DATE:20230402
DTEND;VALUE=DATE:20230403
DTSTAMP:20260420T234253
CREATED:20230313T182618Z
LAST-MODIFIED:20230313T182618Z
UID:1253-1680393600-1680479999@drinnen-draussen-dresden.de
SUMMARY:Privatveranstaltung
DESCRIPTION:
URL:https://drinnen-draussen-dresden.de/event/privatveranstaltung-39/
END:VEVENT
BEGIN:VEVENT
DTSTART;TZID=Europe/Berlin:20230404T193000
DTEND;TZID=Europe/Berlin:20230404T230000
DTSTAMP:20260420T234253
CREATED:20221202T181259Z
LAST-MODIFIED:20221202T181259Z
UID:1098-1680636600-1680649200@drinnen-draussen-dresden.de
SUMMARY:Musikerinnen*-Stammtisch Dresden
DESCRIPTION:Du bist Musikerin* und wohnhaft in Dresden oder der näheren Umgebung? Komm vorbei und tausch dich mit deinen Kolleginnen* aus.
URL:https://drinnen-draussen-dresden.de/event/musikerinnen-stammtisch-dresden-4/
END:VEVENT
BEGIN:VEVENT
DTSTART;VALUE=DATE:20230414
DTEND;VALUE=DATE:20230415
DTSTAMP:20260420T234253
CREATED:20230426T095221Z
LAST-MODIFIED:20230426T095221Z
UID:1283-1681430400-1681516799@drinnen-draussen-dresden.de
SUMMARY:Privatveranstaltung
DESCRIPTION:
URL:https://drinnen-draussen-dresden.de/event/privatveranstaltung-42/
END:VEVENT
BEGIN:VEVENT
DTSTART;VALUE=DATE:20230423
DTEND;VALUE=DATE:20230424
DTSTAMP:20260420T234253
CREATED:20230316T094327Z
LAST-MODIFIED:20230316T094327Z
UID:1256-1682208000-1682294399@drinnen-draussen-dresden.de
SUMMARY:Privatveranstaltung
DESCRIPTION:
URL:https://drinnen-draussen-dresden.de/event/privatveranstaltung-40/
END:VEVENT
END:VCALENDAR