BEGIN:VCALENDAR
VERSION:2.0
PRODID:-//Drinnen &amp; Draußen - ECPv6.15.20//NONSGML v1.0//EN
CALSCALE:GREGORIAN
METHOD:PUBLISH
X-WR-CALNAME:Drinnen &amp; Draußen
X-ORIGINAL-URL:https://drinnen-draussen-dresden.de
X-WR-CALDESC:Veranstaltungen für Drinnen &amp; Draußen
REFRESH-INTERVAL;VALUE=DURATION:PT1H
X-Robots-Tag:noindex
X-PUBLISHED-TTL:PT1H
BEGIN:VTIMEZONE
TZID:Europe/Berlin
BEGIN:DAYLIGHT
TZOFFSETFROM:+0100
TZOFFSETTO:+0200
TZNAME:CEST
DTSTART:20220327T010000
END:DAYLIGHT
BEGIN:STANDARD
TZOFFSETFROM:+0200
TZOFFSETTO:+0100
TZNAME:CET
DTSTART:20221030T010000
END:STANDARD
BEGIN:DAYLIGHT
TZOFFSETFROM:+0100
TZOFFSETTO:+0200
TZNAME:CEST
DTSTART:20230326T010000
END:DAYLIGHT
BEGIN:STANDARD
TZOFFSETFROM:+0200
TZOFFSETTO:+0100
TZNAME:CET
DTSTART:20231029T010000
END:STANDARD
BEGIN:DAYLIGHT
TZOFFSETFROM:+0100
TZOFFSETTO:+0200
TZNAME:CEST
DTSTART:20240331T010000
END:DAYLIGHT
BEGIN:STANDARD
TZOFFSETFROM:+0200
TZOFFSETTO:+0100
TZNAME:CET
DTSTART:20241027T010000
END:STANDARD
END:VTIMEZONE
BEGIN:VEVENT
DTSTART;TZID=Europe/Berlin:20230203T170000
DTEND;TZID=Europe/Berlin:20230203T190000
DTSTAMP:20260421T030757
CREATED:20230131T141850Z
LAST-MODIFIED:20230131T145400Z
UID:1219-1675443600-1675450800@drinnen-draussen-dresden.de
SUMMARY:Vernissage »Blauäugig und in Farbe« von Yaëlle Dorison
DESCRIPTION:Freitag\, 03.02.2023\, 17:00 – 20:00 Uhr \nProgramm:\nYaëlle Dorison spielt Piano\, singt Chansons und lädt Groß & Klein zum selbst- oder mitgestalten von Collagen ein. Kommt vorbei! \nAusstellung »Blauäugig und in Farbe« mit Zeichnungen und Collagen von Yaëlle Dorison \nYaëlle Dorison studierte Kunst an der Ecole Supérieure des Beaux Arts Quimper (Frankreich) und ist gebürtige Pariserin. In Dresden schloß sie ein Studium der Soziale Arbeit ab\, fühlt sich zu Hause und arbeitet hier seit 16 Jahren künstlerisch und pädagogisch. Sie ist eine Vermittlerin der Gefühle\, egal ob sie als Clownin »Ciboulette Klimbim« oder als wunderbare Zeichnerin unterwegs ist. Yaëlle Dorison fängt die (Alltags)Stimmung der Menschen ein und auf und setzt sie um – im direkten Kontakt oder auf Papier. Mit unendlicher Phantasie\, mit leisen oder lauten Tönen\, träumerisch\, nachdenklich\, witzig\, entwirft sie eine Welt\, die das Leben in all seiner Vielfältigkeit abbildet.\nSie erschafft Bilder\, die zum Eintauchen und Nach-Innen-Schauen einladen. \nhttp://www.yaelledorison.de und bei Instagram @ciboulette.klimbim \nAusstellungsdauer: 03.02. bis 30.06.2023\nAusstellungsort: Drinnen und Draußen\, Kamenzer Str. 62\, 01099 Dresden\nBesichtigung möglich per Mail-Anfrage an kontakt@drinnen-draussen-dresden.de
URL:https://drinnen-draussen-dresden.de/event/vernissage-ausstellung-blauaeugig-und-in-farbe-mit-zeichnungen-und-collagen-von-yaelle-dorison/
ATTACH;FMTTYPE=image/jpeg:https://drinnen-draussen-dresden.de/wp-content/uploads/2023/01/Vernissage-Yaelle-Event-Header-1.jpg
END:VEVENT
BEGIN:VEVENT
DTSTART;TZID=Europe/Berlin:20230206T100000
DTEND;TZID=Europe/Berlin:20230206T110000
DTSTAMP:20260421T030757
CREATED:20230112T084441Z
LAST-MODIFIED:20230112T084441Z
UID:1193-1675677600-1675681200@drinnen-draussen-dresden.de
SUMMARY:Baby-Musikkurs
DESCRIPTION:Kurs startet 06.02.2023\nje 45 Minuten\, 60 Euro für 6 Kurse\nLerne und singe Kinderlieder und Kniereiter\nAlter: ab ca. 3 Monaten bis 8 Monate\,\n6 -10 Teilnehmer:innen + Babys\nTausche dich mit anderen Eltern aus\n\nAnmelden: enna@drinnen-draussen-dresden.de \nKursleiterin: Enna Miau
URL:https://drinnen-draussen-dresden.de/event/baby-musikkurs/
END:VEVENT
BEGIN:VEVENT
DTSTART;TZID=Europe/Berlin:20230207T193000
DTEND;TZID=Europe/Berlin:20230207T230000
DTSTAMP:20260421T030757
CREATED:20221202T181122Z
LAST-MODIFIED:20221202T181122Z
UID:1094-1675798200-1675810800@drinnen-draussen-dresden.de
SUMMARY:Musikerinnen*-Stammtisch Dresden
DESCRIPTION:Du bist Musikerin* und wohnhaft in Dresden oder der näheren Umgebung? Komm vorbei und tausch dich mit deinen Kolleginnen* aus.
URL:https://drinnen-draussen-dresden.de/event/musikerinnen-stammtisch-dresden-2/
END:VEVENT
BEGIN:VEVENT
DTSTART;TZID=Europe/Berlin:20230209T190000
DTEND;TZID=Europe/Berlin:20230209T220000
DTSTAMP:20260421T030757
CREATED:20221221T140847Z
LAST-MODIFIED:20230112T122012Z
UID:1118-1675969200-1675980000@drinnen-draussen-dresden.de
SUMMARY:Lesung: biographischer Roman & Klavier
DESCRIPTION:Einlass: 19:00 Uhr\npünktlicher Start: 19:30\nEintritt: 7\,00 € ermäßigt I 10\,00 € Erwachsene\n\n„Literarische Kostprobe mit musikalischer Umarmung“\nBuch: „Ein Himmel voller Schweigen“ von Julia Gilfert\nLive-Musik: die Autorin begleitet sich selbst am Piano\n\nÜBER DAS BUCH\n„Ich stelle mir vor\, wie es wäre\, wenn ich klingelte und er würde aufmachen. Mein eigener Großvater würde aufmachen\, mitten in Berlin\, 75 Jahre bevor ich hier stehe und klingle. Ich stelle mir vor\, ich könnte ihm erzählen\, was passieren wird. Und ihn dann davor bewahren.“\n\nDeutschland 1933. Der junge Dirigent Walter hat in Rostock gerade sein erstes Engagement bekommen. Seine große Liebe\, die Sopranistin Luise\, will er so bald es geht zu sich holen. Hedwig\, Walters Schwester\, arbeitet unterdessen als Lehrerin in der Pfalz und denkt gar nicht daran\, sich ernsthaft zu binden. Stattdessen pflegt sie die unterschiedlichsten Freundschaften – so auch zu dem Soldaten Armin\, der ihrer Familie bald ein Dorn im Auge ist. Vier Leben\, die sich kreuzen – und die sich auf folgenschwere Weise ineinander verflechten.\nEtwa achtzig Jahre später beginnt eine junge Frau plötzlich\, von ihrem Großvater zu träumen – einem Mann\, den sie nie kennengelernt hat und der in den Erzählungen ihrer Familie nicht vorkommt. Sie beginnt\, Fragen zu stellen. Wie konnte ein Mensch derart sorgfältig aus dem Familiengedächtnis getilgt werden? Und vor allem: Warum? Von einer immer stärker werdenden inneren Verbundenheit zu ihrem Großvater geleitet\, begibt sie sich auf Spurensuche. \nUngewöhnlich\, poetisch und berührend erzählt Julia Gilfert die Geschichte ihres Großvaters Walter. Eine Geschichte\, die auch ihre eigene ist.\nGewinnertitel des Literaturfest Meißen 2022\, nominiert für den Pfalzpreis für pfälzische Geschichte und Volkskunde (Preisverleihung am 19.11.2022). \nFernsehbeitrag zum Buch: https://www.ardmediathek.de/video/landesart/autorin-sucht-nach-dem-eigenen-familiengeheimnis/swr-rp/Y3JpZDovL3N3ci5kZS9hZXgvbzE2MTYxODk \n\n  \nÜBER DIE AUTORIN \nJulia Gilfert wurde 1990 als Julia Frick in Ludwigshafen am Rhein geboren\, aufgewachsen ist sie im nahegelegenen Lambsheim. Nach ihrem Abitur studierte sie zunächst einige Semester Klassischen Gesang\, was sie jedoch aufgrund einer akuten Erkrankung aufgeben musste. Nach zwei Semestern Evangelischer Theologie entschied sie sich nochmals für einen Neubeginn und zog nach Kiel\, um dort Skandinavistik und Kulturwissenschaften zu studieren. Private Gründe führten sie 2017 nach Unterfranken\, wo sie in Würzburg ein Masterstudium im Fach Kulturwissenschaften absolvierte. Seit 2021 ist Julia Gilfert Doktorandin an der Universität Tübingen\, wo sie im Rahmen eines Sonderforschungsbereichs zum Thema „Gedenkstättenarbeit im Kontext des Neuen Nationalismus“ forscht. Seit 2011 hat sie zum Schicksal ihres Großvaters Walter Frick recherchiert\, aus den ursprünglich rein privaten Nachforschungen ist mittlerweile eine breitgefächerte Bildungsarbeit entstanden. Julia Gilfert lebt mit Mann\, Hund und Kind in der Nähe von Kitzingen. Wenn sie nicht gerade Bücher schreibt\, liest sie ihrer Tochter welche vor\, ist passionierte Hobbyornithologin und für allerlei kreative Handarbeiten zu haben. \n„Himmel voller Schweigen“ ist ihr Debutroman. Die Veranstaltung ist als musikalische Lesung konzipiert. Julia Gilfert spielt und singt unter anderem das „Wiegenlied“ ihres Großvaters Walter Frick. \nhttps://www.lebenswertes-leben.net/ \nErscheinungsdatum: 01/2022 im Ultraviolett Verlag \nISBN: 978-3-96887-012-0 \nTaschenbuch. Fadenheftung. \n12.5 x 19 x 2 cm\n296 Seiten\, schwarzweiß  \nPreis: 14\,80 € (D) \n\n——– \n\nDie Veranstaltung wird durch das Amt für Kultur und Denkmalschutz der Stadt Dresden gefördert. \n  \n 
URL:https://drinnen-draussen-dresden.de/event/lesung-biographischer-roman-klavier/
ATTACH;FMTTYPE=image/jpeg:https://drinnen-draussen-dresden.de/wp-content/uploads/2022/12/FB-Header-VA-1.jpg
END:VEVENT
BEGIN:VEVENT
DTSTART;VALUE=DATE:20230210
DTEND;VALUE=DATE:20230211
DTSTAMP:20260421T030757
CREATED:20230117T143543Z
LAST-MODIFIED:20230117T143543Z
UID:1210-1675987200-1676073599@drinnen-draussen-dresden.de
SUMMARY:Privatveranstaltung
DESCRIPTION:
URL:https://drinnen-draussen-dresden.de/event/privatveranstaltung-32/
END:VEVENT
BEGIN:VEVENT
DTSTART;TZID=Europe/Berlin:20230213T100000
DTEND;TZID=Europe/Berlin:20230213T110000
DTSTAMP:20260421T030757
CREATED:20230112T090022Z
LAST-MODIFIED:20230112T085520Z
UID:1196-1676282400-1676286000@drinnen-draussen-dresden.de
SUMMARY:Baby-Musikkurs
DESCRIPTION:Kurs startet 06.02.2023\nje 45 Minuten\, 60 Euro für 6 Kurse\nLerne und singe Kinderlieder und Kniereiter\nAlter: ab ca. 3 Monaten bis 8 Monate\,\n6 -10 Teilnehmer:innen + Babys\nTausche dich mit anderen Eltern aus\n\nAnmelden: enna@drinnen-draussen-dresden.de \nKursleiterin: Enna Miau
URL:https://drinnen-draussen-dresden.de/event/baby-musikkurs-5/
END:VEVENT
BEGIN:VEVENT
DTSTART;VALUE=DATE:20230219
DTEND;VALUE=DATE:20230220
DTSTAMP:20260421T030757
CREATED:20230223T191435Z
LAST-MODIFIED:20230223T191435Z
UID:1234-1676764800-1676851199@drinnen-draussen-dresden.de
SUMMARY:Privatveranstaltung
DESCRIPTION:
URL:https://drinnen-draussen-dresden.de/event/privatveranstaltung-35/
END:VEVENT
BEGIN:VEVENT
DTSTART;TZID=Europe/Berlin:20230220T100000
DTEND;TZID=Europe/Berlin:20230220T110000
DTSTAMP:20260421T030757
CREATED:20230117T143753Z
LAST-MODIFIED:20230117T143753Z
UID:1213-1676887200-1676890800@drinnen-draussen-dresden.de
SUMMARY:Baby-Musikkurs
DESCRIPTION:Kurs startet 06.02.2023\nje 45 Minuten\, 60 Euro für 6 Kurse\nLerne und singe Kinderlieder und Kniereiter\nAlter: ab ca. 3 Monaten bis 8 Monate\,\n6 -10 Teilnehmer:innen + Babys\nTausche dich mit anderen Eltern aus\n\nAnmelden: enna@drinnen-draussen-dresden.de \nKursleiterin: Enna Miau
URL:https://drinnen-draussen-dresden.de/event/baby-musikkurs-7/
END:VEVENT
BEGIN:VEVENT
DTSTART;TZID=Europe/Berlin:20230227T100000
DTEND;TZID=Europe/Berlin:20230227T110000
DTSTAMP:20260421T030757
CREATED:20230112T090022Z
LAST-MODIFIED:20230112T085400Z
UID:1198-1677492000-1677495600@drinnen-draussen-dresden.de
SUMMARY:Baby-Musikkurs
DESCRIPTION:Kurs startet 06.02.2023\nje 45 Minuten\, 60 Euro für 6 Kurse\nLerne und singe Kinderlieder und Kniereiter\nAlter: ab ca. 3 Monaten bis 8 Monate\,\n6 -10 Teilnehmer:innen + Babys\nTausche dich mit anderen Eltern aus\n\nAnmelden: enna@drinnen-draussen-dresden.de \nKursleiterin: Enna Miau
URL:https://drinnen-draussen-dresden.de/event/baby-musikkurs-3/
END:VEVENT
END:VCALENDAR