BEGIN:VCALENDAR
VERSION:2.0
PRODID:-//Drinnen &amp; Draußen - ECPv6.15.20//NONSGML v1.0//EN
CALSCALE:GREGORIAN
METHOD:PUBLISH
X-ORIGINAL-URL:https://drinnen-draussen-dresden.de
X-WR-CALDESC:Veranstaltungen für Drinnen &amp; Draußen
REFRESH-INTERVAL;VALUE=DURATION:PT1H
X-Robots-Tag:noindex
X-PUBLISHED-TTL:PT1H
BEGIN:VTIMEZONE
TZID:Europe/Berlin
BEGIN:DAYLIGHT
TZOFFSETFROM:+0100
TZOFFSETTO:+0200
TZNAME:CEST
DTSTART:20210328T010000
END:DAYLIGHT
BEGIN:STANDARD
TZOFFSETFROM:+0200
TZOFFSETTO:+0100
TZNAME:CET
DTSTART:20211031T010000
END:STANDARD
BEGIN:DAYLIGHT
TZOFFSETFROM:+0100
TZOFFSETTO:+0200
TZNAME:CEST
DTSTART:20220327T010000
END:DAYLIGHT
BEGIN:STANDARD
TZOFFSETFROM:+0200
TZOFFSETTO:+0100
TZNAME:CET
DTSTART:20221030T010000
END:STANDARD
BEGIN:DAYLIGHT
TZOFFSETFROM:+0100
TZOFFSETTO:+0200
TZNAME:CEST
DTSTART:20230326T010000
END:DAYLIGHT
BEGIN:STANDARD
TZOFFSETFROM:+0200
TZOFFSETTO:+0100
TZNAME:CET
DTSTART:20231029T010000
END:STANDARD
END:VTIMEZONE
BEGIN:VEVENT
DTSTART;VALUE=DATE:20221104
DTEND;VALUE=DATE:20221105
DTSTAMP:20260421T082902
CREATED:20221025T111933Z
LAST-MODIFIED:20221025T111933Z
UID:1072-1667520000-1667606399@drinnen-draussen-dresden.de
SUMMARY:Privatveranstaltung
DESCRIPTION:
URL:https://drinnen-draussen-dresden.de/event/privatveranstaltung-22/
END:VEVENT
BEGIN:VEVENT
DTSTART;VALUE=DATE:20221112
DTEND;VALUE=DATE:20221113
DTSTAMP:20260421T082902
CREATED:20220914T144440Z
LAST-MODIFIED:20220914T144440Z
UID:953-1668211200-1668297599@drinnen-draussen-dresden.de
SUMMARY:Privatveranstaltung
DESCRIPTION:
URL:https://drinnen-draussen-dresden.de/event/privatveranstaltung-17/
END:VEVENT
BEGIN:VEVENT
DTSTART;VALUE=DATE:20221116
DTEND;VALUE=DATE:20221117
DTSTAMP:20260421T082902
CREATED:20221025T110826Z
LAST-MODIFIED:20221025T110826Z
UID:1067-1668556800-1668643199@drinnen-draussen-dresden.de
SUMMARY:Privatveranstaltung
DESCRIPTION:
URL:https://drinnen-draussen-dresden.de/event/privatveranstaltung-23/
END:VEVENT
BEGIN:VEVENT
DTSTART;VALUE=DATE:20221118
DTEND;VALUE=DATE:20221119
DTSTAMP:20260421T082902
CREATED:20221103T193959Z
LAST-MODIFIED:20221103T193959Z
UID:1081-1668729600-1668815999@drinnen-draussen-dresden.de
SUMMARY:Privatveranstaltung
DESCRIPTION:
URL:https://drinnen-draussen-dresden.de/event/privatveranstaltung-24/
END:VEVENT
BEGIN:VEVENT
DTSTART;VALUE=DATE:20221129
DTEND;VALUE=DATE:20221130
DTSTAMP:20260421T082902
CREATED:20220909T190841Z
LAST-MODIFIED:20220909T190841Z
UID:823-1669680000-1669766399@drinnen-draussen-dresden.de
SUMMARY:Privatveranstaltung
DESCRIPTION:
URL:https://drinnen-draussen-dresden.de/event/privatveranstaltung-15/
END:VEVENT
END:VCALENDAR