BEGIN:VCALENDAR
VERSION:2.0
PRODID:-//Drinnen &amp; Draußen - ECPv6.15.20//NONSGML v1.0//EN
CALSCALE:GREGORIAN
METHOD:PUBLISH
X-ORIGINAL-URL:https://drinnen-draussen-dresden.de
X-WR-CALDESC:Veranstaltungen für Drinnen &amp; Draußen
REFRESH-INTERVAL;VALUE=DURATION:PT1H
X-Robots-Tag:noindex
X-PUBLISHED-TTL:PT1H
BEGIN:VTIMEZONE
TZID:Europe/Berlin
BEGIN:DAYLIGHT
TZOFFSETFROM:+0100
TZOFFSETTO:+0200
TZNAME:CEST
DTSTART:20210328T010000
END:DAYLIGHT
BEGIN:STANDARD
TZOFFSETFROM:+0200
TZOFFSETTO:+0100
TZNAME:CET
DTSTART:20211031T010000
END:STANDARD
BEGIN:DAYLIGHT
TZOFFSETFROM:+0100
TZOFFSETTO:+0200
TZNAME:CEST
DTSTART:20220327T010000
END:DAYLIGHT
BEGIN:STANDARD
TZOFFSETFROM:+0200
TZOFFSETTO:+0100
TZNAME:CET
DTSTART:20221030T010000
END:STANDARD
BEGIN:DAYLIGHT
TZOFFSETFROM:+0100
TZOFFSETTO:+0200
TZNAME:CEST
DTSTART:20230326T010000
END:DAYLIGHT
BEGIN:STANDARD
TZOFFSETFROM:+0200
TZOFFSETTO:+0100
TZNAME:CET
DTSTART:20231029T010000
END:STANDARD
END:VTIMEZONE
BEGIN:VEVENT
DTSTART;VALUE=DATE:20221001
DTEND;VALUE=DATE:20221002
DTSTAMP:20260421T100333
CREATED:20220926T115517Z
LAST-MODIFIED:20220926T115602Z
UID:977-1664582400-1664668799@drinnen-draussen-dresden.de
SUMMARY:Privatveranstaltung
DESCRIPTION:
URL:https://drinnen-draussen-dresden.de/event/privatveranstaltung-19/
END:VEVENT
BEGIN:VEVENT
DTSTART;TZID=Europe/Berlin:20221014T110000
DTEND;TZID=Europe/Berlin:20221014T170000
DTSTAMP:20260421T100333
CREATED:20221005T071134Z
LAST-MODIFIED:20221005T071134Z
UID:992-1665745200-1665766800@drinnen-draussen-dresden.de
SUMMARY:Privatveranstaltung
DESCRIPTION:
URL:https://drinnen-draussen-dresden.de/event/privatveranstaltung-20/
END:VEVENT
BEGIN:VEVENT
DTSTART;VALUE=DATE:20221015
DTEND;VALUE=DATE:20221016
DTSTAMP:20260421T100333
CREATED:20221005T130423Z
LAST-MODIFIED:20221005T130423Z
UID:994-1665792000-1665878399@drinnen-draussen-dresden.de
SUMMARY:Privatveranstaltung
DESCRIPTION:
URL:https://drinnen-draussen-dresden.de/event/privatveranstaltung-21/
END:VEVENT
BEGIN:VEVENT
DTSTART;TZID=Europe/Berlin:20221031T100000
DTEND;TZID=Europe/Berlin:20221031T180000
DTSTAMP:20260421T100333
CREATED:20221018T181328Z
LAST-MODIFIED:20221018T181328Z
UID:1060-1667210400-1667239200@drinnen-draussen-dresden.de
SUMMARY:Kinder-Halloween-Special
DESCRIPTION:Kommt vorbei und leuchtet! \nWir haben Schwarzlicht und fluoreszierenden Farben zum Anmalen. Ganz nebenbei erzählen wir euch ein paar spannende Dinge über Fische. Wer mag kann ein paar Bilder ausmalen und natürlich gibt es auch ein Süßigkeiten.\n \n10:00 – 18:00 Uhr \nEintritt ist frei.
URL:https://drinnen-draussen-dresden.de/event/kinder-halloween-special/
END:VEVENT
END:VCALENDAR