BEGIN:VCALENDAR
VERSION:2.0
PRODID:-//Drinnen &amp; Draußen - ECPv6.15.20//NONSGML v1.0//EN
CALSCALE:GREGORIAN
METHOD:PUBLISH
X-ORIGINAL-URL:https://drinnen-draussen-dresden.de
X-WR-CALDESC:Veranstaltungen für Drinnen &amp; Draußen
REFRESH-INTERVAL;VALUE=DURATION:PT1H
X-Robots-Tag:noindex
X-PUBLISHED-TTL:PT1H
BEGIN:VTIMEZONE
TZID:Europe/Berlin
BEGIN:DAYLIGHT
TZOFFSETFROM:+0100
TZOFFSETTO:+0200
TZNAME:CEST
DTSTART:20210328T010000
END:DAYLIGHT
BEGIN:STANDARD
TZOFFSETFROM:+0200
TZOFFSETTO:+0100
TZNAME:CET
DTSTART:20211031T010000
END:STANDARD
BEGIN:DAYLIGHT
TZOFFSETFROM:+0100
TZOFFSETTO:+0200
TZNAME:CEST
DTSTART:20220327T010000
END:DAYLIGHT
BEGIN:STANDARD
TZOFFSETFROM:+0200
TZOFFSETTO:+0100
TZNAME:CET
DTSTART:20221030T010000
END:STANDARD
BEGIN:DAYLIGHT
TZOFFSETFROM:+0100
TZOFFSETTO:+0200
TZNAME:CEST
DTSTART:20230326T010000
END:DAYLIGHT
BEGIN:STANDARD
TZOFFSETFROM:+0200
TZOFFSETTO:+0100
TZNAME:CET
DTSTART:20231029T010000
END:STANDARD
END:VTIMEZONE
BEGIN:VEVENT
DTSTART;VALUE=DATE:20220709
DTEND;VALUE=DATE:20220710
DTSTAMP:20260423T140858
CREATED:20220511T115259Z
LAST-MODIFIED:20220511T115259Z
UID:571-1657324800-1657411199@drinnen-draussen-dresden.de
SUMMARY:Privatveranstaltung
DESCRIPTION:
URL:https://drinnen-draussen-dresden.de/event/privatveranstaltung-14/
END:VEVENT
BEGIN:VEVENT
DTSTART;VALUE=DATE:20220716
DTEND;VALUE=DATE:20220717
DTSTAMP:20260423T140858
CREATED:20220207T135924Z
LAST-MODIFIED:20220207T135924Z
UID:463-1657929600-1658015999@drinnen-draussen-dresden.de
SUMMARY:Privatveranstaltung
DESCRIPTION:
URL:https://drinnen-draussen-dresden.de/event/privatveranstaltung-4/
END:VEVENT
BEGIN:VEVENT
DTSTART;TZID=Europe/Berlin:20220722T183000
DTEND;TZID=Europe/Berlin:20220722T203000
DTSTAMP:20260423T140858
CREATED:20220622T115444Z
LAST-MODIFIED:20220622T144836Z
UID:573-1658514600-1658521800@drinnen-draussen-dresden.de
SUMMARY:Papierfaltkurs „Lampen“
DESCRIPTION:mit bis zu 5 Teilnehmer:innen\nMaterial wird gestellt\n1 – 2 Stunden\nein Sektgetränk (mit oder ohne Alkohol) inklusive\nKosten: 80 Euro pro Person\n\nAnmelden: kontakt@drinnen-draußen-dresden.de \nKursleiterin: Maria Seidel \n 
URL:https://drinnen-draussen-dresden.de/event/papierfaltkurs-lampen/
END:VEVENT
END:VCALENDAR