BEGIN:VCALENDAR
VERSION:2.0
PRODID:-//Drinnen &amp; Draußen - ECPv6.15.20//NONSGML v1.0//EN
CALSCALE:GREGORIAN
METHOD:PUBLISH
X-WR-CALNAME:Drinnen &amp; Draußen
X-ORIGINAL-URL:https://drinnen-draussen-dresden.de
X-WR-CALDESC:Veranstaltungen für Drinnen &amp; Draußen
REFRESH-INTERVAL;VALUE=DURATION:PT1H
X-Robots-Tag:noindex
X-PUBLISHED-TTL:PT1H
BEGIN:VTIMEZONE
TZID:Europe/Berlin
BEGIN:DAYLIGHT
TZOFFSETFROM:+0100
TZOFFSETTO:+0200
TZNAME:CEST
DTSTART:20210328T010000
END:DAYLIGHT
BEGIN:STANDARD
TZOFFSETFROM:+0200
TZOFFSETTO:+0100
TZNAME:CET
DTSTART:20211031T010000
END:STANDARD
BEGIN:DAYLIGHT
TZOFFSETFROM:+0100
TZOFFSETTO:+0200
TZNAME:CEST
DTSTART:20220327T010000
END:DAYLIGHT
BEGIN:STANDARD
TZOFFSETFROM:+0200
TZOFFSETTO:+0100
TZNAME:CET
DTSTART:20221030T010000
END:STANDARD
BEGIN:DAYLIGHT
TZOFFSETFROM:+0100
TZOFFSETTO:+0200
TZNAME:CEST
DTSTART:20230326T010000
END:DAYLIGHT
BEGIN:STANDARD
TZOFFSETFROM:+0200
TZOFFSETTO:+0100
TZNAME:CET
DTSTART:20231029T010000
END:STANDARD
END:VTIMEZONE
BEGIN:VEVENT
DTSTART;VALUE=DATE:20220204
DTEND;VALUE=DATE:20220205
DTSTAMP:20260425T172616
CREATED:20220130T083055Z
LAST-MODIFIED:20220130T083055Z
UID:452-1643932800-1644019199@drinnen-draussen-dresden.de
SUMMARY:Privatveranstaltung
DESCRIPTION:
URL:https://drinnen-draussen-dresden.de/event/privatveranstaltung-2/
END:VEVENT
BEGIN:VEVENT
DTSTART;VALUE=DATE:20220205
DTEND;VALUE=DATE:20220206
DTSTAMP:20260425T172616
CREATED:20211217T184842Z
LAST-MODIFIED:20211217T185443Z
UID:394-1644019200-1644105599@drinnen-draussen-dresden.de
SUMMARY:Privatfeier
DESCRIPTION:
URL:https://drinnen-draussen-dresden.de/event/privatfeier-8/
END:VEVENT
BEGIN:VEVENT
DTSTART;TZID=Europe/Berlin:20220207T100000
DTEND;TZID=Europe/Berlin:20220207T120000
DTSTAMP:20260425T172616
CREATED:20220104T111050Z
LAST-MODIFIED:20220104T111050Z
UID:419-1644228000-1644235200@drinnen-draussen-dresden.de
SUMMARY:Privat
DESCRIPTION:
URL:https://drinnen-draussen-dresden.de/event/privat-4/
END:VEVENT
BEGIN:VEVENT
DTSTART;TZID=Europe/Berlin:20220214T100000
DTEND;TZID=Europe/Berlin:20220214T120000
DTSTAMP:20260425T172616
CREATED:20220104T111112Z
LAST-MODIFIED:20220104T111112Z
UID:421-1644832800-1644840000@drinnen-draussen-dresden.de
SUMMARY:Privat
DESCRIPTION:
URL:https://drinnen-draussen-dresden.de/event/privat-5/
END:VEVENT
BEGIN:VEVENT
DTSTART;TZID=Europe/Berlin:20220221T100000
DTEND;TZID=Europe/Berlin:20220221T120000
DTSTAMP:20260425T172616
CREATED:20220104T111136Z
LAST-MODIFIED:20220104T111136Z
UID:423-1645437600-1645444800@drinnen-draussen-dresden.de
SUMMARY:Privat
DESCRIPTION:
URL:https://drinnen-draussen-dresden.de/event/privat-6/
END:VEVENT
BEGIN:VEVENT
DTSTART;TZID=Europe/Berlin:20220221T100000
DTEND;TZID=Europe/Berlin:20220221T120000
DTSTAMP:20260425T172616
CREATED:20220104T111202Z
LAST-MODIFIED:20220104T111202Z
UID:425-1645437600-1645444800@drinnen-draussen-dresden.de
SUMMARY:Privat
DESCRIPTION:
URL:https://drinnen-draussen-dresden.de/event/privat-7/
END:VEVENT
BEGIN:VEVENT
DTSTART;TZID=Europe/Berlin:20220228T100000
DTEND;TZID=Europe/Berlin:20220228T120000
DTSTAMP:20260425T172616
CREATED:20220104T111227Z
LAST-MODIFIED:20220104T111227Z
UID:427-1646042400-1646049600@drinnen-draussen-dresden.de
SUMMARY:Privat
DESCRIPTION:
URL:https://drinnen-draussen-dresden.de/event/privat-8/
END:VEVENT
END:VCALENDAR