BEGIN:VCALENDAR
VERSION:2.0
PRODID:-//Drinnen &amp; Draußen - ECPv6.15.20//NONSGML v1.0//EN
CALSCALE:GREGORIAN
METHOD:PUBLISH
X-WR-CALNAME:Drinnen &amp; Draußen
X-ORIGINAL-URL:https://drinnen-draussen-dresden.de
X-WR-CALDESC:Veranstaltungen für Drinnen &amp; Draußen
REFRESH-INTERVAL;VALUE=DURATION:PT1H
X-Robots-Tag:noindex
X-PUBLISHED-TTL:PT1H
BEGIN:VTIMEZONE
TZID:Europe/Berlin
BEGIN:DAYLIGHT
TZOFFSETFROM:+0100
TZOFFSETTO:+0200
TZNAME:CEST
DTSTART:20210328T010000
END:DAYLIGHT
BEGIN:STANDARD
TZOFFSETFROM:+0200
TZOFFSETTO:+0100
TZNAME:CET
DTSTART:20211031T010000
END:STANDARD
BEGIN:DAYLIGHT
TZOFFSETFROM:+0100
TZOFFSETTO:+0200
TZNAME:CEST
DTSTART:20220327T010000
END:DAYLIGHT
BEGIN:STANDARD
TZOFFSETFROM:+0200
TZOFFSETTO:+0100
TZNAME:CET
DTSTART:20221030T010000
END:STANDARD
BEGIN:DAYLIGHT
TZOFFSETFROM:+0100
TZOFFSETTO:+0200
TZNAME:CEST
DTSTART:20230326T010000
END:DAYLIGHT
BEGIN:STANDARD
TZOFFSETFROM:+0200
TZOFFSETTO:+0100
TZNAME:CET
DTSTART:20231029T010000
END:STANDARD
END:VTIMEZONE
BEGIN:VEVENT
DTSTART;TZID=Europe/Berlin:20220106T100000
DTEND;TZID=Europe/Berlin:20220106T180000
DTSTAMP:20260425T190636
CREATED:20220104T110928Z
LAST-MODIFIED:20220104T112152Z
UID:417-1641463200-1641492000@drinnen-draussen-dresden.de
SUMMARY:Privat
DESCRIPTION:
URL:https://drinnen-draussen-dresden.de/event/privat-3/
END:VEVENT
BEGIN:VEVENT
DTSTART;VALUE=DATE:20220108
DTEND;VALUE=DATE:20220109
DTSTAMP:20260425T190636
CREATED:20211019T180243Z
LAST-MODIFIED:20211019T180243Z
UID:363-1641600000-1641686399@drinnen-draussen-dresden.de
SUMMARY:Privatfeier
DESCRIPTION:
URL:https://drinnen-draussen-dresden.de/event/privatfeier-3/
END:VEVENT
BEGIN:VEVENT
DTSTART;TZID=Europe/Berlin:20220117T100000
DTEND;TZID=Europe/Berlin:20220117T120000
DTSTAMP:20260425T190636
CREATED:20220104T110749Z
LAST-MODIFIED:20220104T110749Z
UID:413-1642413600-1642420800@drinnen-draussen-dresden.de
SUMMARY:Privat
DESCRIPTION:
URL:https://drinnen-draussen-dresden.de/event/privat/
END:VEVENT
BEGIN:VEVENT
DTSTART;TZID=Europe/Berlin:20220124T100000
DTEND;TZID=Europe/Berlin:20220124T120000
DTSTAMP:20260425T190636
CREATED:20220104T110830Z
LAST-MODIFIED:20220104T110830Z
UID:415-1643018400-1643025600@drinnen-draussen-dresden.de
SUMMARY:Privat
DESCRIPTION:
URL:https://drinnen-draussen-dresden.de/event/privat-2/
END:VEVENT
END:VCALENDAR